Workbook

Sheet Copertina
B4: CARTELLONE 2B_2022
B6: BANDO PUBBLICO PER LA CONCESSIONE DEI CONTRIBUTI PER L’ORGANIZZAZIONE DI MANIFESTAZIONI DEL “CARTELLONE REGIONALE DELLE MANIFESTAZIONI FOLKLORISTICHE E TRADIZIONALI” CUP E71D22000070002– ANNUALITA’ 2022-2023-2024 L.R. 21 aprile 1955, n. 7, art. 1 lett. c)
B10: Misura | C10: Manifestazioni Folkloristiche
B15: ELEMENTI IDENTIFICATIVI
B16: Manifestazione | C16: CORSA NEI SACCHI
B17: Organismo | C17: ASD I-UTA
B18: Sede legale | C18: viale buoncammino
B19: Comune | C19: irgoli
B20: Rapresentante legale | C20: vincenzo sconfitto
B21: Contatti (PEC) | C21: vincenzo@pec.it
B22: Istanza (Prot. e data) | C22: n.9856 del 14 luglio

Sheet Valori del progetto
A1: =Copertina!B4 -> CARTELLONE 2B_2022
A2: DATI FINANZIARI
D3: CONTROLLO
A4: Importo del progetto (IP) | B4: 0 | D4: IMPORTO | E4: =IF(B4<B13,"IMPORTO DEL PROGETTO INFERIORE AL MINIMO","OK") -> IMPORTO DEL PROGETTO INFERIORE AL MINIMO
A5: Contributo economico richiesto (COE) | B5: 0 | D5: AMMISSIBILITÀ [COE ≤ COE_MAX] | E5: =IF(B5>B6,"CONTRIBUTO SUPERIORE AL MASSIMO CONCEDIBILE","OK") -> OK
A6: COE_MAX max 80% delle spese ammissibili (Sam) e comunque fino a max € 40.000,00 | B6: ='Manifestazioni Folkloristiche'!B13 -> 0 | D6: =IF(B5>B6,"VERIFICARE COE","OK") -> OK
A7: Cofinanziamento (COF) | B7: 0 | D7: AMMISSIBILITÀ [COF ≥ CO] | E7: =IF(B7<B8,"COFINANZIAMENTO INSUFFICIENTE","OK") -> OK
A8: CO (Cof. obbligatorio minimo) min. 20% delle entrate ammissibili (Eam) | B8: ='Manifestazioni Folkloristiche'!B19 -> 0 | D8: =IF(B7<B8,"VERIFICARE COF","OK") -> OK
A9: Entrate ammissibili (E_am) deve corrispondere alla somma COE+COF | B9: 0 | D9: ENTRATE [E_am=COE+COF] | E9: =IF(B9=B10,"OK","VERIFICARE") -> OK
A10: COE + COF deve corrispondere alle entrate ammissibili E_am | B10: =B5+B7 -> 0 | D10: =IF(B9=B10,"OK","VERIFICARE") -> OK
A11: Entrate non ammissibili (E_nam) | B11: 0 | D11: VERIFICA ENTRATE TOTALI | E11: =IF(B10+B11=B4,"OK","VERIFICARE IMPORTI ENTRATE") -> OK
A12: IP (Importo del progetto) deve essere pari alla somma di COE+COF+E_am | B12: =B9+B11 -> 0 | D12: =IF(B10+B11=B4,"OK","VERIFICARE") -> OK
A13: IP_min (Importo minimo del progetto) Definito nell'All. 2 | B13: ='Manifestazioni Folkloristiche'!B12 -> 30000 | D13: =IF(B12<B13,"VERIFICARE IP","OK") -> VERIFICARE IP
A14: Spesa per promozione e comunicazione (SPC) min. il 40% del contributo concesso (COE) | B14: 0 | D14: SPESE PER COMUNICAZIONE | E14: =IF(B14<B15,"SPC INFERIORE AL MINIMO","OK") -> OK
A15: SPC_min min. il 40% del contributo concesso (COE) | B15: =B5*'Manifestazioni Folkloristiche'!B17 -> 0 | D15: =IF(B14<B15,"VERIFICARE SPC","OK") -> OK
A16: Spese ammissibili (S_am) non devono superare l'importo del progetto | B16: 0 | D16: SPESE AMMISSIBILI | E16: =IF(B16>B4,"SPESE SUPERIORI AL VALORE DEL PROGETTO","OK") -> OK
A17: S_nam (Spese non ammissibili) | B17: 0 | D17: SPESE NON AMMISSIBILI | E17: =IF(B17=B18+B19,"OK","VERIFICARE SPESE") -> OK
A18: Non amm. per finanziamento (S_namF) | B18: 0 | D18: EQUILIBRIO DI BILANCIO | E18: =IF(B10+B11=B16+B17,"OK","VERIFICARE IMPORTI") -> OK
A19: Non amm. per tipologia (S_namT) | B19: 0
A21: Punteggio | B21: ='Simulazione punteggio'!E24 -> #DIV/0! | D21: PUNTEGGIO
A22: P_min | B22: ='Manifestazioni Folkloristiche'!B21 -> 40 | D22: =IF(B21<B22,"PUNTEGGIO INSUFFICIENTE","OK") -> #DIV/0!

Sheet Manifestazioni Folkloristiche
A1: =Copertina!B4 -> CARTELLONE 2B_2022
A4: MANIFESTAZIONI FOLKLORISTICHE
A6: ELEMENTI IDENTIFICATIVI
A7: Manifestazione | B7: =Copertina!C16 -> CORSA NEI SACCHI
A8: Organismo | B8: =Copertina!C17 -> ASD I-UTA
A10: REQUISITI SPECIFICI
A12: IP_min | B12: 30000 | C12: All. 2/B punto 4.1.1
A13: COE_MAX | B13: =MIN(B15,B16) -> 0 | C13: All. 2/B punto 4.1.2. Massimo 80% delle spese ammissibili. (Sam) e comunque fino ad un max di € 40.000,00
A14: CONTRIBUTO RICHIESTO | B14: ='Valori del progetto'!B5 -> 0
A15: COE MAX % | B15: ='Valori del progetto'!B16*0.8 -> 0
A16: COE MAX MISURA | B16: 40000 | C16: All. 2/B punto 4.1.2.
A17: SPC_min % | B17: 0.4 | C17: All. 2/B punto 4.1.5 minimo il 40% del contributo concesso (COE)
A18: SPC del proggetto in % | B18: ='Valori del progetto'!B14/'Valori del progetto'!B5*100 -> #DIV/0!
A19: CO (Cofinanziamento obbligatorio minimo) | B19: ='Valori del progetto'!B4*0.2 -> 0 | C19: All.2/B punto 4.1.4 minimo 20% delle entrate ammissibili del programma (Eam)
A20: COF in % | B20: ='Valori del progetto'!B7/'Valori del progetto'!B4*100 -> #DIV/0! | C20: utile per l'attribuzione punteggio del cofinanziamento
A21: Punteggio Minimo | B21: 40 | C21: All. 2/B punto 4.1.3

Sheet Simulazione punteggio
B1: =Copertina!B4 -> CARTELLONE 2B_2022
B5: MANIFESTAZIONI FOLKLORISTICHE
B7: ELEMENTI IDENTIFICATIVI
B8: Manifestazione | C8: =Copertina!C16 -> CORSA NEI SACCHI
B9: Organismo | C9: =Copertina!C17 -> ASD I-UTA
B11: REQUISITI SPECIFICI
C12: Valori da progetto | D12: Punteggio massimo | E12: Punteggio manifestazione
B13: Stagionalità C = lug-ago 0 punti B = mag-giu-set 10 punti A = gen-feb-mar-apr-ott-nov-dic 20 punti | C13: A | D13: 20 | E13: =(C13="A")*20+AND(C13="B")*10+AND(C13="C")*0 -> 20
B14: Localizzazione *Comuni facenti parte di Borghi: più belli d'Italia, bandiere arancioni, autentici, di eccellenza e/o della Rete dei Borghi caratteristici di Sardegna (Delib.G.R. n. 55/21 del 13.11.2018), riconosciuti con le vele di Lega Ambiente/Touring Club o con la bandiera blu. 15 *Comuni con popolazione fino a 1.000 (censimento dati ISTAT 31.12.2020) *Aree archeologiche censite con decreto del Ministero della Cultura | C14: Sì | D14: 15 | E14: =(C14="Sì")*15+AND(C14="No")*0 -> 15
B15: Cofinanziamento | C15: ='Manifestazioni Folkloristiche'!B20 -> #DIV/0! | D15: 35 | E15: =IF(C17>D15,D15,C17) -> #DIV/0!
B16: COF=35 --> 5 punti COF>35 Punti=5+(COF progetto-35)*1.5 | C16: =5+(C15-35)*1.5 -> #DIV/0!
C17: =IF(C16>0,C16,0) -> #DIV/0!
B18: Promozione - TO e/o AdV Presenza in "Pacchetto turistico" | C18: No | D18: 5 | E18: =(C18="Sì")*5+AND(C18="No")*0 -> 0
B19: Spese Comunicazione e Promozione SPC - Spese per azioni di promozione e/o comunicazione superiori al 40% | C19: ='Manifestazioni Folkloristiche'!B18 -> #DIV/0! | D19: 10 | E19: =IF(C21>D19,D19,C21) -> #DIV/0!
B20: Punti SPC=(SPC progetto-40)*0.5 | C20: =(C19-40)*0.5 -> #DIV/0!
C21: =IF(C20>0,C20,0) -> #DIV/0!
B22: Monitoraggio presenze Presenza monitoraggio e report | C22: Sì | D22: 5 | E22: =(C22="Sì")*5+AND(C22="No")*0 -> 5
B23: Attività *Rassegna canto a tenore e/o canto a chitarra 10 punti; *Esibizione di canto a tenore e/o canto a chitarra e/o cori polifonici e poesia di improvvisazione nelle varianti regionali sarde 5 punti | C23: Esibizione | D23: 10 | E23: =(C23="Rassegna")*10+AND(C23="Esibizione")*5 -> 5
B24: Totale punteggio | D24: =SUM(D13:D23) -> 100 | E24: =SUM(E13:E23) -> #DIV/0!

Sheet Stampa
A1: =Copertina!B4 -> CARTELLONE 2B_2022 | C1: =Copertina!C10 -> Manifestazioni Folkloristiche
A2: 1. Anagrafica
A4: =Copertina!B16 -> Manifestazione | C4: =Copertina!C16 -> CORSA NEI SACCHI
A5: =Copertina!B17 -> Organismo | C5: =Copertina!C17 -> ASD I-UTA
A6: =Copertina!B18 -> Sede legale | C6: =Copertina!C18 -> viale buoncammino
A7: =Copertina!B19 -> Comune | C7: =Copertina!C19 -> irgoli
A8: =Copertina!B20 -> Rapresentante legale | C8: =Copertina!C20 -> vincenzo sconfitto
A9: =Copertina!B21 -> Contatti (PEC) | C9: =Copertina!C21 -> vincenzo@pec.it
A10: =Copertina!B22 -> Istanza (Prot. e data) | C10: =Copertina!C22 -> n.9856 del 14 luglio
A12: 2. Documentazione
C13: Sì/No/N.R. | E13: Commenti
A14: 1) Fotocopia del documento d’identità in corso di validità di chi sottoscrive la domanda di contributo e le dichiarazioni
A15: 2) Procura [in caso di procuratore generale o speciale]
A16: 3) Copia dell’Atto costitutivo e Statuto dell’Organismo [NO per Enti pubblici]
A17: 4) Elenco soci e relative cariche sociali, aggiornato alla data di presentazione della domanda [NO per Enti pubblici]
A18: 5) MODULO 01: “Domanda di contributo - Annualità 22 / 23 / 24”
A19: 6) MODULO 01-A: “Dichiarazione sostitutiva possesso requisiti ordine generale”
A20: 6.1) [per i Grandi Eventi Identitari] MODULO 02/A-1 - “Dichiarazione integrativa alla domanda”
A21: 6.2) [per gli Eventi dell’Identità Regionale] MODULO 02/A-2 - “Dichiarazione integrativa alla domanda”
A22: 7) MODULO 03: “Tracciabilità dei flussi finanziari”
A23: 8) MODULO 04: Dichiarazione “Anti Pantouflange”
A24: 9) MODULO 05: Liberatoria Bando Annualità 2022 / 2023 / 2024”
A25: 10) MODULO 06: “Dichiarazione sostitutiva sull’assolvimento imposta di bollo”
... A30: 3. Importi e determinazione contributo
B31: Valori | E31: Osservazioni
A32: IP (Importo del progetto) | B32: ='Valori del progetto'!B4 -> 0
A33: COE (Contributo economico richiesto) | B33: ='Valori del progetto'!B5 -> 0
A34: COF (Cofinanziamento) | B34: ='Valori del progetto'!B7 -> 0
A35: E_am (Entrate ammissibili) | B35: ='Valori del progetto'!B9 -> 0
A36: E_nam | B36: ='Valori del progetto'!B11 -> 0
A37: SPC (Spesa per com. e prom.)_x000D_ spesa per “promozione e/o comunicazione” | B37: ='Valori del progetto'!B14 -> 0
A38: S_am (Spese ammissibili) | B38: ='Valori del progetto'!B16 -> 0
A39: S_nam (Spese non ammissibili) | B39: ='Valori del progetto'!B17 -> 0
A40: S_namF (Non amm. per finanziamento) | B40: ='Valori del progetto'!B18 -> 0
A41: S_namT (Non amm. per tipologia) | B41: ='Valori del progetto'!B19 -> 0
A43: Punteggio | B43: ='Valori del progetto'!B21 -> #DIV/0!
A44: P_min | B44: ='Valori del progetto'!B22 -> 40 | E44: Risultanza dell'istruttoria
A46: Contributo concesso | E46: DINIEGATA
A48: REFERENTE | E48: Davide Marcassoli
